BEGIN:VCALENDAR
VERSION:2.0
PRODID:-//ChamberMaster//Event Calendar 2.0//EN
METHOD:PUBLISH
X-PUBLISHED-TTL:P3D
REFRESH-INTERVAL:P3D
CALSCALE:GREGORIAN
BEGIN:VEVENT
DTSTART:20251013T220000Z
DTEND:20251014T000000Z
X-MICROSOFT-CDO-ALLDAYEVENT:FALSE
SUMMARY:Easthampton Mayoral Forum 2025
DESCRIPTION:Mayoral Candidate Forum\n\nMonday October 13th \n\n6:30 pm - 8pm (doors open at 6pm)\n\nThe Williston Theatre\n\n19 Payson Ave. Easthampton MA.\n\n* Parking available in the Theatre lot*\n\n\n\nThe Greater Easthampton Chamber of Commerce is proud to host a Mayoral Candidate Forum\, moderated by Dave Madsen\, bringing together the business community and residents for an engaging and informative evening. This event will provide an opportunity for candidates to share their vision for the future of our city\, address key issues affecting local businesses and the community\, and to answer questions from our chamber members\, and audience members in attendance at the forum.\n\nThe forum is designed to promote civic engagement\, encourage thoughtful dialogue\, and ensure voters have the information they need ahead of Election Day. By attending\, participants will gain valuable insight into each candidate's priorities and approach to leadership. We thank the Williston Northampton School for graciously providing their theatre. We send a special thank you to Dave Madsen for moderating the forum.\n\n\n\nMayoral Candidates: Lindsi Sekula\, Salem Derby\, JT Tirrell will be in attendance.\n\nWe also want to hear from you! Easthampton Chamber Members are invited to submit your questions in advance. This is a great way to make sure the topics that matter most to you are part of the conversation.\n\n\n\n*Please submit your questions by Thursday October 9th 10 pm.\n\n  "Please note that while all submitted questions will be reviewed\, not every question may be asked during the forum."  \n\n Submit Your Questions Here!\n\n \n\nThis complimentary event\, presented by the Greater Easthampton Chamber of Commerce\, is designed to provide you with the opportunity to have your voice heard and to engage with the candidates for the next Mayor of Easthampton.
X-ALT-DESC;FMTTYPE=text/html:<p style="color: rgb(32\, 33\, 36)\; font-family: docs-Roboto\; font-size: 14.6667px\; background-color: rgb(255\, 255\, 255)\;"><strong>Mayoral Candidate Forum<br />\nMonday October 13th&nbsp\;<br />\n6:30 pm - 8pm (doors open at 6pm)<br />\nThe Williston Theatre<br />\n19 Payson Ave. Easthampton MA</strong>.<br />\n* Parking available in the Theatre lot*<br />\n<br />\n<strong>The Greater Easthampton Chamber of Commerce</strong> is proud to host a Mayoral Candidate Forum\, moderated by <strong>Dave Madsen\,</strong> bringing together the business community and residents for an engaging and informative evening. This event will provide an opportunity for candidates to share their vision for the future of our city\, address key issues affecting local businesses and the community\, and to answer questions from our chamber members\, and audience members in attendance at the forum.</p>\n\n<p style="color: rgb(32\, 33\, 36)\; font-family: docs-Roboto\; font-size: 14.6667px\; background-color: rgb(255\, 255\, 255)\;">The forum is designed to promote civic engagement\, encourage thoughtful dialogue\, and ensure voters have the information they need ahead of Election Day. By attending\, participants will gain valuable insight into each candidate&rsquo\;s priorities and approach to leadership.&nbsp\;<span style="background:white\;"><span style="color:#202124\;"><span style="font-family:docs-roboto\,serif\;"><span style="font-size:11.0pt\;">We thank the Williston Northampton School for graciously providing their theatre.&nbsp\;We send a special thank you to Dave Madsen for moderating the forum.<br />\n<br />\nMayoral Candidates: Lindsi Sekula\, Salem Derby\, JT Tirrell will be in attendance.</span></span></span></span></p>\n\n<p style="color: rgb(32\, 33\, 36)\; font-family: docs-Roboto\; font-size: 14.6667px\; background-color: rgb(255\, 255\, 255)\;">We also want to hear from you! Easthampton Chamber Members are invited to&nbsp\;<strong>submit your&nbsp\;questions in advance.&nbsp\;</strong>This is a great way to make sure the topics that matter most to you are part of the conversation.<br />\n<br />\n<b style="color: rgb(32\, 33\, 36)\; font-family: docs-Roboto\; font-size: 14.6667px\; background-color: rgb(255\, 255\, 255)\;"><i>*Please submit your questions by Thursday October 9th 10 pm.</i></b></p>\n\n<p style="color: rgb(32\, 33\, 36)\; font-family: docs-Roboto\; font-size: 14.6667px\; background-color: rgb(255\, 255\, 255)\;">&nbsp\;&nbsp\;<i>&ldquo\;Please note that while all submitted questions will be reviewed\, not every question may be asked during the forum.&rdquo\;&nbsp\;</i>&nbsp\;</p>\n\n<p style="color: rgb(32\, 33\, 36)\; font-family: docs-Roboto\; font-size: 14.6667px\; background-color: rgb(255\, 255\, 255)\; text-align: center\;"><span style="font-family:aptos\,sans-serif\;"><span style="font-size:12.0pt\;">&nbsp\;<span style="font-size:22px\;"><a href="https://forms.gle/mtoAb9WYd4vaWDEf9">Submit Your Questions Here!</a></span></span></span></p>\n\n<p style="color: rgb(32\, 33\, 36)\; font-family: docs-Roboto\; font-size: 14.6667px\; background-color: rgb(255\, 255\, 255)\;">&nbsp\;</p>\n\n<p style="color: rgb(32\, 33\, 36)\; font-family: docs-Roboto\; font-size: 14.6667px\; background-color: rgb(255\, 255\, 255)\; text-align: center\;"><em><span style="color: rgb(69\, 75\, 89)\; font-family: Helvetica\, Arial\, sans-serif\; font-size: 14px\; background-color: rgb(255\, 255\, 255)\;">This complimentary event\, presented by the Greater Easthampton Chamber of Commerce\, is designed to provide you with the opportunity to have your voice heard and to engage with the candidates for the next Mayor of Easthampton.</span></em></p>\n
LOCATION:Williston Theater 18 Payson Ave. Easthampton MA.
UID:e.2295.1730
SEQUENCE:3
DTSTAMP:20260421T020216Z
URL:http://easthamptonchamber.chambermaster.com/events/details/easthampton-mayoral-forum-2025-1730
END:VEVENT

END:VCALENDAR
